BEGIN:VCALENDAR
VERSION:2.0
PRODID:-//http://localhost/content/kohia/en/Events ICS//EN
CALSCALE:GREGORIAN
X-WR-TIMEZONE:Pacific/Auckland
METHOD:PUBLISH
BEGIN:VEVENT
DESCRIPTION;CHARSET=UTF-8:n/a
SUMMARY;CHARSET=UTF-8:Mindfulness Practices: Improving attention\, mental resilience and self-reg
 ulation for teachers and students
STATUS:confirmed
LOCATION:n/a
ORGANISER:
UID:http://localhost/content/kohia/en/kohia/courses/events/2018/05/mindfulness-practices--improving-attention--mental-resilience-an.html
DTSTART:20180508T090000
DTEND:20180508T150000
CREATED:20171123T134700
LAST-MODIFIED:20171123T134800
CATEGORIES;CHARSET=UTF-8:Early Childhood, Primary, Secondary
END:VEVENT
END:VCALENDAR