BEGIN:VCALENDAR
VERSION:2.0
PRODID:-//http://localhost/content/kohia/en/Events ICS//EN
CALSCALE:GREGORIAN
X-WR-TIMEZONE:Pacific/Auckland
METHOD:PUBLISH
BEGIN:VEVENT
DESCRIPTION;CHARSET=UTF-8:n/a
SUMMARY;CHARSET=UTF-8:How to design your curriculum to incorporate STEM Principles (2 sessions)
STATUS:confirmed
LOCATION:n/a
ORGANISER:
UID:http://localhost/content/kohia/en/kohia/courses/events/2018/05/how-to-design-your-curriculum-to-incorporate-stem-principles--2-.html
DTSTART:20180509T090000
DTEND:20180509T150000
CREATED:20171123T133700
LAST-MODIFIED:20171123T134000
CATEGORIES;CHARSET=UTF-8:Primary, Secondary
END:VEVENT
END:VCALENDAR