BEGIN:VCALENDAR
VERSION:2.0
PRODID:-//http://localhost/content/kohia/en/Events ICS//EN
CALSCALE:GREGORIAN
X-WR-TIMEZONE:Pacific/Auckland
METHOD:PUBLISH
BEGIN:VEVENT
DESCRIPTION;CHARSET=UTF-8:n/a
SUMMARY;CHARSET=UTF-8:A Treaty Responsive Curriculum in Action
STATUS:confirmed
LOCATION:n/a
ORGANISER:
UID:http://localhost/content/kohia/en/kohia/courses/events/2018/04/a-treaty-responsive-curriculum-in-action.html
DTSTART:20180402T090000
DTEND:20180402T150000
CREATED:20171108T122600
LAST-MODIFIED:20171108T122700
CATEGORIES;CHARSET=UTF-8:Early Childhood, Primary, Secondary
END:VEVENT
END:VCALENDAR