BEGIN:VCALENDAR
VERSION:2.0
PRODID:-//http://localhost/content/kohia/en/Events ICS//EN
CALSCALE:GREGORIAN
X-WR-TIMEZONE:Pacific/Auckland
METHOD:PUBLISH
BEGIN:VEVENT
DESCRIPTION;CHARSET=UTF-8:n/a
SUMMARY;CHARSET=UTF-8:Working with Challenging Behaviour: What to do when classroom-wide interven
 tions aren’t succeeding
STATUS:confirmed
LOCATION:n/a
ORGANISER:
UID:http://localhost/content/kohia/en/kohia/courses/events/2018/03/working-with-challenging-behaviour--what-to-do-when-classroom-wi.html
DTSTART:20180309T090000
DTEND:20180309T150000
CREATED:20171108T121700
LAST-MODIFIED:20171108T121800
CATEGORIES;CHARSET=UTF-8:Primary, Early Childhood, Secondary
END:VEVENT
END:VCALENDAR