BEGIN:VCALENDAR
VERSION:2.0
PRODID:-//http://localhost/content/kohia/en/Events ICS//EN
CALSCALE:GREGORIAN
X-WR-TIMEZONE:Pacific/Auckland
METHOD:PUBLISH
BEGIN:VEVENT
DESCRIPTION;CHARSET=UTF-8:n/a
SUMMARY;CHARSET=UTF-8:Supporting Community of Learning leaders to use a  design thinking process 
 to approach achievement challenges around student agency (2 sessions)
STATUS:confirmed
LOCATION:n/a
ORGANISER:
UID:http://localhost/content/kohia/en/kohia/courses/events/2018/03/supporting-community-of-learning-leaders-to-use-a--design-thinki.html
DTSTART:20180323T090000
DTEND:20180323T150000
CREATED:20171108T122100
LAST-MODIFIED:20171108T122200
CATEGORIES;CHARSET=UTF-8:Primary, Secondary
END:VEVENT
END:VCALENDAR