BEGIN:VCALENDAR
VERSION:2.0
PRODID:-//http://localhost/content/kohia/en/Events ICS//EN
CALSCALE:GREGORIAN
X-WR-TIMEZONE:Pacific/Auckland
METHOD:PUBLISH
BEGIN:VEVENT
DESCRIPTION;CHARSET=UTF-8:n/a
SUMMARY;CHARSET=UTF-8:Ready to Read: Maximising the use of this instructional series and its reso
 urces
STATUS:confirmed
LOCATION:n/a
ORGANISER:
UID:http://localhost/content/kohia/en/kohia/courses/events/2018/03/ready-to-read--our-unique-taonga-.html
DTSTART:20180329T090000
DTEND:20180329T150000
CREATED:20171108T122400
LAST-MODIFIED:20171115T111600
CATEGORIES;CHARSET=UTF-8:Primary
END:VEVENT
END:VCALENDAR