BEGIN:VCALENDAR
VERSION:2.0
PRODID:-//http://localhost/content/kohia/en/Events ICS//EN
CALSCALE:GREGORIAN
X-WR-TIMEZONE:Pacific/Auckland
METHOD:PUBLISH
BEGIN:VEVENT
DESCRIPTION;CHARSET=UTF-8:n/a
SUMMARY;CHARSET=UTF-8:NCEA and Health Education for teachers new to using health achievement stan
 dards
STATUS:confirmed
LOCATION:n/a
ORGANISER:
UID:http://localhost/content/kohia/en/kohia/courses/events/2018/03/ncea-and-health-education-for-teachers-new-to-using-health-achie.html
DTSTART:20180326T090000
DTEND:20180326T150000
CREATED:20171128T110600
LAST-MODIFIED:20171128T110600
CATEGORIES;CHARSET=UTF-8:Secondary
END:VEVENT
END:VCALENDAR