BEGIN:VCALENDAR
VERSION:2.0
PRODID:-//http://localhost/content/kohia/en/Events ICS//EN
CALSCALE:GREGORIAN
X-WR-TIMEZONE:Pacific/Auckland
METHOD:PUBLISH
BEGIN:VEVENT
DESCRIPTION;CHARSET=UTF-8:n/a
SUMMARY;CHARSET=UTF-8:Guided reading: The bread and butter of reading programmes 
STATUS:confirmed
LOCATION:n/a
ORGANISER:
UID:http://localhost/content/kohia/en/kohia/courses/events/2018/03/guided-reading--the-bread-and-butter-of-reading-programmes-.html
DTSTART:20180306T090000
DTEND:20180306T150000
CREATED:20171108T121400
LAST-MODIFIED:20171108T121500
CATEGORIES;CHARSET=UTF-8:Primary
END:VEVENT
END:VCALENDAR