BEGIN:VCALENDAR
VERSION:2.0
PRODID:-//http://localhost/content/kohia/en/Events ICS//EN
CALSCALE:GREGORIAN
X-WR-TIMEZONE:Pacific/Auckland
METHOD:PUBLISH
BEGIN:VEVENT
DESCRIPTION;CHARSET=UTF-8:n/a
SUMMARY;CHARSET=UTF-8:Actioning Teaching  as Inquiry and the Practicing Teacher Criteria (2 sessi
 ons course)
STATUS:confirmed
LOCATION:n/a
ORGANISER:
UID:http://localhost/content/kohia/en/kohia/courses/events/2018/03/actioning-teaching--as-inquiry-and-the-practicing-teacher-criter.html
DTSTART:20180320T090000
DTEND:20180320T150000
CREATED:20171108T121900
LAST-MODIFIED:20171108T122000
CATEGORIES;CHARSET=UTF-8:Early Childhood, Primary, Secondary
END:VEVENT
END:VCALENDAR