BEGIN:VCALENDAR
VERSION:2.0
PRODID:-//http://localhost/content/kohia/en/Events ICS//EN
CALSCALE:GREGORIAN
X-WR-TIMEZONE:Pacific/Auckland
METHOD:PUBLISH
BEGIN:VEVENT
DESCRIPTION;CHARSET=UTF-8:n/a
SUMMARY;CHARSET=UTF-8:A Sense of Wonder: The starting point for inquiry in primary science. Activ
 ities  and strategies to enhance science capability
STATUS:confirmed
LOCATION:n/a
ORGANISER:
UID:http://localhost/content/kohia/en/kohia/courses/events/2018/03/a-sense-of-wonder--the-starting-point-for-inquiry-in-primary-sci.html
DTSTART:20180305T153000
DTEND:20180305T173000
CREATED:20171123T132700
LAST-MODIFIED:20171123T132700
CATEGORIES;CHARSET=UTF-8:
END:VEVENT
END:VCALENDAR