BEGIN:VCALENDAR
VERSION:2.0
PRODID:-//http://localhost/content/kohia/en/Events ICS//EN
CALSCALE:GREGORIAN
X-WR-TIMEZONE:Pacific/Auckland
METHOD:PUBLISH
BEGIN:VEVENT
DESCRIPTION;CHARSET=UTF-8:n/a
SUMMARY;CHARSET=UTF-8:Year 9 and 10 English - Course Design and Assessment
STATUS:confirmed
LOCATION:n/a
ORGANISER:
UID:http://localhost/content/kohia/en/kohia/courses/events/2018/02/year-9-and-10-english---course-design-and-assessment.html
DTSTART:20180216T090000
DTEND:20180216T150000
CREATED:20171130T124300
LAST-MODIFIED:20171130T124400
CATEGORIES;CHARSET=UTF-8:Secondary
END:VEVENT
END:VCALENDAR