BEGIN:VCALENDAR
VERSION:2.0
PRODID:-//http://localhost/content/kohia/en/Events ICS//EN
CALSCALE:GREGORIAN
X-WR-TIMEZONE:Pacific/Auckland
METHOD:PUBLISH
BEGIN:VEVENT
DESCRIPTION;CHARSET=UTF-8:n/a
SUMMARY;CHARSET=UTF-8:The Professional Role: Communication Skills for School Secretaries\, Office
  Managers and other Ancillary Staff
STATUS:confirmed
LOCATION:n/a
ORGANISER:
UID:http://localhost/content/kohia/en/kohia/courses/events/2018/02/the-professional-role--communication-skills-for-school-secretari.html
DTSTART:20180220T090000
DTEND:20180220T150000
CREATED:20171123T131700
LAST-MODIFIED:20171123T131800
CATEGORIES;CHARSET=UTF-8:Early Childhood, Primary, Secondary
END:VEVENT
END:VCALENDAR