BEGIN:VCALENDAR
VERSION:2.0
PRODID:-//http://localhost/content/kohia/en/Events ICS//EN
CALSCALE:GREGORIAN
X-WR-TIMEZONE:Pacific/Auckland
METHOD:PUBLISH
BEGIN:VEVENT
DESCRIPTION;CHARSET=UTF-8:n/a
SUMMARY;CHARSET=UTF-8:Teacher aides supporting early readers and writers
STATUS:confirmed
LOCATION:n/a
ORGANISER:
UID:http://localhost/content/kohia/en/kohia/courses/events/2018/02/teacher-aides-supporting-early-readers-and-writers.html
DTSTART:20180215T140000
DTEND:20180215T160000
CREATED:20171108T120900
LAST-MODIFIED:20171108T120900
CATEGORIES;CHARSET=UTF-8:Primary
END:VEVENT
END:VCALENDAR