BEGIN:VCALENDAR
VERSION:2.0
PRODID:-//http://localhost/content/kohia/en/Events ICS//EN
CALSCALE:GREGORIAN
X-WR-TIMEZONE:Pacific/Auckland
METHOD:PUBLISH
BEGIN:VEVENT
DESCRIPTION;CHARSET=UTF-8:n/a
SUMMARY;CHARSET=UTF-8:NCEA for newbies
STATUS:confirmed
LOCATION:n/a
ORGANISER:
UID:http://localhost/content/kohia/en/kohia/courses/events/2018/02/ncea-for-newbies.html
DTSTART:20180214T090000
DTEND:20180214T150000
CREATED:20171115T111800
LAST-MODIFIED:20171115T111900
CATEGORIES;CHARSET=UTF-8:Secondary
END:VEVENT
END:VCALENDAR