BEGIN:VCALENDAR
VERSION:2.0
PRODID:-//http://localhost/content/kohia/en/Events ICS//EN
CALSCALE:GREGORIAN
X-WR-TIMEZONE:Pacific/Auckland
METHOD:PUBLISH
BEGIN:VEVENT
DESCRIPTION;CHARSET=UTF-8:n/a
SUMMARY;CHARSET=UTF-8:Building on data to enhance culturally responsive leadership and evidence b
 ased decision making for schools and CoL's -Auckland
STATUS:confirmed
LOCATION:n/a
ORGANISER:
UID:http://localhost/content/kohia/en/kohia/courses/events/2018/02/building-on-data-to-enhance-culturally-responsive-leadership-and.html
DTSTART:20180223T090000
DTEND:20180223T150000
CREATED:20171108T121200
LAST-MODIFIED:20171108T121300
CATEGORIES;CHARSET=UTF-8:Early Childhood, Primary, Secondary
END:VEVENT
END:VCALENDAR