BEGIN:VCALENDAR
VERSION:2.0
PRODID:-//http://localhost/content/kohia/en/Events ICS//EN
CALSCALE:GREGORIAN
X-WR-TIMEZONE:Pacific/Auckland
METHOD:PUBLISH
BEGIN:VEVENT
DESCRIPTION;CHARSET=UTF-8:n/a
SUMMARY;CHARSET=UTF-8:Setting Up and Starting a New Entrant Class: a day of ideas and visual insp
 iration
STATUS:confirmed
LOCATION:n/a
ORGANISER:
UID:http://localhost/content/kohia/en/kohia/courses/events/2018/01/setting-up-and-starting-a-new-entrant-class--a-day-of-ideas-and-.html
DTSTART:20180126T090000
DTEND:20180126T150000
CREATED:20171108T120600
LAST-MODIFIED:20171108T120600
CATEGORIES;CHARSET=UTF-8:Primary
END:VEVENT
END:VCALENDAR