BEGIN:VCALENDAR
VERSION:2.0
PRODID:-//http://localhost/content/kohia/en/Events ICS//EN
CALSCALE:GREGORIAN
X-WR-TIMEZONE:Pacific/Auckland
METHOD:PUBLISH
BEGIN:VEVENT
DESCRIPTION;CHARSET=UTF-8:n/a
SUMMARY;CHARSET=UTF-8:Mathematics in the Middle Years (3 sessions)
STATUS:confirmed
LOCATION:n/a
ORGANISER:
UID:http://localhost/content/kohia/en/kohia/courses/events/2017/02/mathematics-in-the-middle-years.html
DTSTART:20170227T090000
DTEND:20170227T150000
CREATED:20170127T102900
LAST-MODIFIED:20170127T103000
CATEGORIES;CHARSET=UTF-8:
END:VEVENT
END:VCALENDAR