BEGIN:VCALENDAR
VERSION:2.0
PRODID:-//http://localhost/content/kohia/en/Events ICS//EN
CALSCALE:GREGORIAN
X-WR-TIMEZONE:Pacific/Auckland
METHOD:PUBLISH
BEGIN:VEVENT
DESCRIPTION;CHARSET=UTF-8:n/a
SUMMARY;CHARSET=UTF-8:Mastering the inference standards 1.10 to 2.9 to 3.10 - a workshop for Teac
 hers of Senior Statistics
STATUS:confirmed
LOCATION:n/a
ORGANISER:
UID:http://localhost/content/kohia/en/kohia/courses/events/2016/mastering-the-inference-standards-1-10-to-2-9-to-3-10---a-worksh.html
DTSTART:20160303T090000
DTEND:20160303T100000
CREATED:20151120T104900
LAST-MODIFIED:20151120T104900
CATEGORIES;CHARSET=UTF-8:Kohia Education Centres, Secondary
END:VEVENT
END:VCALENDAR